BEGIN:VCALENDAR
VERSION:2.0
PRODID:-//Wir in Klein Escherde - ECPv6.15.20//NONSGML v1.0//EN
CALSCALE:GREGORIAN
METHOD:PUBLISH
X-ORIGINAL-URL:https://wir-in-klein-escherde.de
X-WR-CALDESC:Veranstaltungen für Wir in Klein Escherde
REFRESH-INTERVAL;VALUE=DURATION:PT1H
X-Robots-Tag:noindex
X-PUBLISHED-TTL:PT1H
BEGIN:VTIMEZONE
TZID:UTC
BEGIN:STANDARD
TZOFFSETFROM:+0000
TZOFFSETTO:+0000
TZNAME:UTC
DTSTART:20240101T000000
END:STANDARD
END:VTIMEZONE
BEGIN:VEVENT
DTSTART;TZID=UTC:20250211T180000
DTEND;TZID=UTC:20250211T200000
DTSTAMP:20260421T114350
CREATED:20241229T154126Z
LAST-MODIFIED:20241229T160424Z
UID:602-1739296800-1739304000@wir-in-klein-escherde.de
SUMMARY:Ortsratssitzung 18 Uhr
DESCRIPTION:
URL:https://wir-in-klein-escherde.de/event/ortsratssitzung-18-uhr
END:VEVENT
BEGIN:VEVENT
DTSTART;VALUE=DATE:20250223
DTEND;VALUE=DATE:20250224
DTSTAMP:20260421T114350
CREATED:20241229T154418Z
LAST-MODIFIED:20241229T154418Z
UID:604-1740268800-1740355199@wir-in-klein-escherde.de
SUMMARY:Wahl des 21. Deutschen Bundestages
DESCRIPTION:Information der Bundesregierung
URL:https://wir-in-klein-escherde.de/event/wahl-des-21-deutschen-bundestages
END:VEVENT
END:VCALENDAR